BEGIN:VCALENDAR
VERSION:2.0
PRODID:-//Oficjalna strona Gminy Iwonicz-Zdrój - ECPv6.15.18//NONSGML v1.0//EN
CALSCALE:GREGORIAN
METHOD:PUBLISH
X-ORIGINAL-URL:https://iwonicz-zdroj.pl
X-WR-CALDESC:Wydarzenia dla Oficjalna strona Gminy Iwonicz-Zdrój
REFRESH-INTERVAL;VALUE=DURATION:PT1H
X-Robots-Tag:noindex
X-PUBLISHED-TTL:PT1H
BEGIN:VTIMEZONE
TZID:Europe/Paris
BEGIN:DAYLIGHT
TZOFFSETFROM:+0100
TZOFFSETTO:+0200
TZNAME:CEST
DTSTART:20250330T010000
END:DAYLIGHT
BEGIN:STANDARD
TZOFFSETFROM:+0200
TZOFFSETTO:+0100
TZNAME:CET
DTSTART:20251026T010000
END:STANDARD
BEGIN:DAYLIGHT
TZOFFSETFROM:+0100
TZOFFSETTO:+0200
TZNAME:CEST
DTSTART:20260329T010000
END:DAYLIGHT
BEGIN:STANDARD
TZOFFSETFROM:+0200
TZOFFSETTO:+0100
TZNAME:CET
DTSTART:20261025T010000
END:STANDARD
BEGIN:DAYLIGHT
TZOFFSETFROM:+0100
TZOFFSETTO:+0200
TZNAME:CEST
DTSTART:20270328T010000
END:DAYLIGHT
BEGIN:STANDARD
TZOFFSETFROM:+0200
TZOFFSETTO:+0100
TZNAME:CET
DTSTART:20271031T010000
END:STANDARD
END:VTIMEZONE
BEGIN:VEVENT
DTSTART;TZID=Europe/Paris:20260422T090000
DTEND;TZID=Europe/Paris:20260422T130000
DTSTAMP:20260419T184114
CREATED:20260309T111338Z
LAST-MODIFIED:20260317T092617Z
UID:69496-1776848400-1776862800@iwonicz-zdroj.pl
SUMMARY:XXX Gminny Konkurs Inscenizacji Wiersza
DESCRIPTION:  \n  \nhttps://gok.iwonicz-zdroj.pl/wp-content/uploads/2026/03/REGUALMIN-INSCENIZACJA-2026-r.pdf \n  \nhttps://gok.iwonicz-zdroj.pl/wp-content/uploads/2026/03/KARTA-ZGLOSZEN-INSCENIZACJA-2026.pdf
URL:https://iwonicz-zdroj.pl/wydarzenia/xxx-gminny-konkurs-inscenizacji-wiersza/
LOCATION:sala widowiskowa „Wczasowicz” w Iwoniczu-Zdroju
ATTACH;FMTTYPE=image/jpeg:https://iwonicz-zdroj.pl/wp-content/uploads/2026/03/AFTER-SCHOOL-DRAMA.jpg
END:VEVENT
END:VCALENDAR