BEGIN:VCALENDAR
VERSION:2.0
PRODID:-//Oficjalna strona Gminy Iwonicz-Zdrój - ECPv6.15.18//NONSGML v1.0//EN
CALSCALE:GREGORIAN
METHOD:PUBLISH
X-ORIGINAL-URL:https://iwonicz-zdroj.pl
X-WR-CALDESC:Wydarzenia dla Oficjalna strona Gminy Iwonicz-Zdrój
REFRESH-INTERVAL;VALUE=DURATION:PT1H
X-Robots-Tag:noindex
X-PUBLISHED-TTL:PT1H
BEGIN:VTIMEZONE
TZID:Europe/Paris
BEGIN:DAYLIGHT
TZOFFSETFROM:+0100
TZOFFSETTO:+0200
TZNAME:CEST
DTSTART:20250330T010000
END:DAYLIGHT
BEGIN:STANDARD
TZOFFSETFROM:+0200
TZOFFSETTO:+0100
TZNAME:CET
DTSTART:20251026T010000
END:STANDARD
BEGIN:DAYLIGHT
TZOFFSETFROM:+0100
TZOFFSETTO:+0200
TZNAME:CEST
DTSTART:20260329T010000
END:DAYLIGHT
BEGIN:STANDARD
TZOFFSETFROM:+0200
TZOFFSETTO:+0100
TZNAME:CET
DTSTART:20261025T010000
END:STANDARD
BEGIN:DAYLIGHT
TZOFFSETFROM:+0100
TZOFFSETTO:+0200
TZNAME:CEST
DTSTART:20270328T010000
END:DAYLIGHT
BEGIN:STANDARD
TZOFFSETFROM:+0200
TZOFFSETTO:+0100
TZNAME:CET
DTSTART:20271031T010000
END:STANDARD
END:VTIMEZONE
BEGIN:VEVENT
DTSTART;TZID=Europe/Paris:20260417T190000
DTEND;TZID=Europe/Paris:20260418T210000
DTSTAMP:20260419T184842
CREATED:20260319T140621Z
LAST-MODIFIED:20260319T140621Z
UID:69711-1776452400-1776546000@iwonicz-zdroj.pl
SUMMARY:Festiwal Muzyki Świata Carpatia Cameralis - Iwonicz-Zdrój 2026
DESCRIPTION:
URL:https://iwonicz-zdroj.pl/wydarzenia/festiwal-muzyki-swiata-carpatia-cameralis-iwonicz-zdroj-2026/
LOCATION:sala widowiskowa „Wczasowicz” w Iwoniczu-Zdroju
ATTACH;FMTTYPE=image/jpeg:https://iwonicz-zdroj.pl/wp-content/uploads/2026/03/Plakat-zaakceptowany.jpg
END:VEVENT
END:VCALENDAR