BEGIN:VCALENDAR
VERSION:2.0
PRODID:-//Oficjalna strona Gminy Iwonicz-Zdrój - ECPv6.15.18//NONSGML v1.0//EN
CALSCALE:GREGORIAN
METHOD:PUBLISH
X-WR-CALNAME:Oficjalna strona Gminy Iwonicz-Zdrój
X-ORIGINAL-URL:https://iwonicz-zdroj.pl
X-WR-CALDESC:Wydarzenia dla Oficjalna strona Gminy Iwonicz-Zdrój
REFRESH-INTERVAL;VALUE=DURATION:PT1H
X-Robots-Tag:noindex
X-PUBLISHED-TTL:PT1H
BEGIN:VTIMEZONE
TZID:Europe/Paris
BEGIN:DAYLIGHT
TZOFFSETFROM:+0100
TZOFFSETTO:+0200
TZNAME:CEST
DTSTART:20250330T010000
END:DAYLIGHT
BEGIN:STANDARD
TZOFFSETFROM:+0200
TZOFFSETTO:+0100
TZNAME:CET
DTSTART:20251026T010000
END:STANDARD
BEGIN:DAYLIGHT
TZOFFSETFROM:+0100
TZOFFSETTO:+0200
TZNAME:CEST
DTSTART:20260329T010000
END:DAYLIGHT
BEGIN:STANDARD
TZOFFSETFROM:+0200
TZOFFSETTO:+0100
TZNAME:CET
DTSTART:20261025T010000
END:STANDARD
BEGIN:DAYLIGHT
TZOFFSETFROM:+0100
TZOFFSETTO:+0200
TZNAME:CEST
DTSTART:20270328T010000
END:DAYLIGHT
BEGIN:STANDARD
TZOFFSETFROM:+0200
TZOFFSETTO:+0100
TZNAME:CET
DTSTART:20271031T010000
END:STANDARD
END:VTIMEZONE
BEGIN:VEVENT
DTSTART;TZID=Europe/Paris:20260410T190000
DTEND;TZID=Europe/Paris:20260410T210000
DTSTAMP:20260419T184657
CREATED:20260330T101553Z
LAST-MODIFIED:20260330T101604Z
UID:69907-1775847600-1775854800@iwonicz-zdroj.pl
SUMMARY:Spektakl teatralny: Spóźniona miłość\, czyli wyznania starego belfra
DESCRIPTION:
URL:https://iwonicz-zdroj.pl/wydarzenia/spektakl-teatralny-spozniona-milosc-czyli-wyznania-starego-belfra-47/
LOCATION:sala widowiskowa „Wczasowicz” w Iwoniczu-Zdroju
ATTACH;FMTTYPE=image/jpeg:https://iwonicz-zdroj.pl/wp-content/uploads/2026/03/spozniona-milosc-1.jpg-2-1-scaled.jpg
END:VEVENT
END:VCALENDAR